BEGIN:VCALENDAR
VERSION:2.0
PRODID:-//Lake Hills Church - ECPv6.15.15//NONSGML v1.0//EN
CALSCALE:GREGORIAN
METHOD:PUBLISH
X-WR-CALNAME:Lake Hills Church
X-ORIGINAL-URL:https://lakehillslife.com
X-WR-CALDESC:Events for Lake Hills Church
REFRESH-INTERVAL;VALUE=DURATION:PT1H
X-Robots-Tag:noindex
X-PUBLISHED-TTL:PT1H
BEGIN:VTIMEZONE
TZID:UTC
BEGIN:STANDARD
TZOFFSETFROM:+0000
TZOFFSETTO:+0000
TZNAME:UTC
DTSTART:20240101T000000
END:STANDARD
END:VTIMEZONE
BEGIN:VEVENT
DTSTART;VALUE=DATE:20251123
DTEND;VALUE=DATE:20251212
DTSTAMP:20260425T183739
CREATED:20211028T133626Z
LAST-MODIFIED:20251120T193946Z
UID:2580-1763856000-1765497599@lakehillslife.com
SUMMARY:The Blessing Food Drive
DESCRIPTION:Join Lake Hills Church as we come together to support families in our community this holiday season. Every year when children go home for Christmas break\, the meals that they count on getting during school hours have to come from somewhere else. For many families\, finding the means to supply these extra meals for their children is a challenge\, and they often go without. We are working closely with social workers at Candler Middle School\, Candler Intermediate\, Pisgah Elementary\, Hominy Valley Elementary\, Candler Elementary\, and Sand Hill Elementary to identify 100 families most in need this holiday season. We have 130 families signed up to receive boxes this year. \n  \nHow to get involved\nStop by the lobby on one of the next two Sundays\, grab a food supply list and your boxes. You can choose to fill one box or two. Each of the families we serve will receive 2 boxes. Once you have filled your box or boxes\, return to the lobby by December 7th.  \nDecember 11th we will hold a distribution day where the families will be able to come by the church and get their set of boxes. We will need people to help serve during this day. Click the link below to sign up to serve during the distribution day. \nSign up to Serve\nThe Blessing Timeline \nCollection starts: November 23rd \nCollection Ends: December 7th \nBlessing Box Distribution: December 11th  \n 
URL:https://lakehillslife.com/event/the-blessing-food-drive/
LOCATION:Lake Hills Church\, 370 Lake Drive\, Candler\, NC\, 28715\, United States
CATEGORIES:Children,Churchwide,Homepage
ATTACH;FMTTYPE=image/x-png:https://lakehillslife.com/wp-content/uploads/2021/10/The-Blessing-1.png
ORGANIZER;CN="Lake Hills Church":MAILTO:connect@lakehillslife.com
END:VEVENT
END:VCALENDAR