BEGIN:VCALENDAR
VERSION:2.0
PRODID:-//Lake Hills Church - ECPv6.15.15//NONSGML v1.0//EN
CALSCALE:GREGORIAN
METHOD:PUBLISH
X-ORIGINAL-URL:https://lakehillslife.com
X-WR-CALDESC:Events for Lake Hills Church
REFRESH-INTERVAL;VALUE=DURATION:PT1H
X-Robots-Tag:noindex
X-PUBLISHED-TTL:PT1H
BEGIN:VTIMEZONE
TZID:UTC
BEGIN:STANDARD
TZOFFSETFROM:+0000
TZOFFSETTO:+0000
TZNAME:UTC
DTSTART:20250101T000000
END:STANDARD
END:VTIMEZONE
BEGIN:VEVENT
DTSTART;TZID=UTC:20260503T123000
DTEND;TZID=UTC:20260503T140000
DTSTAMP:20260419T122739
CREATED:20220504T184326Z
LAST-MODIFIED:20260403T163233Z
UID:2777-1777811400-1777816800@lakehillslife.com
SUMMARY:Discover Lake Hills
DESCRIPTION:Pastor James Walker and his wife Debbie would like to invite you to a luncheon at the church on Sunday\, May 3rd immediately following the 11am service. Get to know him\, the other pastors on staff\, and learn more about Lake Hills Church. \nDiscover Lake Hills is for new guests or those who have been attending for a while but haven’t taken the next step of membership and connection with our church family. This is an informal lunch where you will learn about our history\, priorities\, ministry opportunities and more. \nIf you have been wanting to know more about our church\, you have been wondering what being a member is all about\, or you just want to know what the next steps for you are at Lake Hills…Discover is for you!! \nChildcare is available upon request. \nRegister on this page or contact Ian Walker at Iwalker@lakehillslife.com for more information. \nPlease register each individual attending including children so we can have an exact head count for food and materials needed.\n \n  \nRegister Now
URL:https://lakehillslife.com/event/discover-lake-hills-3/
LOCATION:Lake Hills Church\, 370 Lake Drive\, Candler\, NC\, 28715\, United States
CATEGORIES:Churchwide,Homepage
ATTACH;FMTTYPE=image/x-png:https://lakehillslife.com/wp-content/uploads/2022/05/CORE-4-Event-Graphics.png
ORGANIZER;CN="Lake Hills Church":MAILTO:connect@lakehillslife.com
END:VEVENT
BEGIN:VEVENT
DTSTART;TZID=UTC:20260516T170000
DTEND;TZID=UTC:20260516T200000
DTSTAMP:20260419T122739
CREATED:20260416T163919Z
LAST-MODIFIED:20260416T174407Z
UID:4047-1778950800-1778961600@lakehillslife.com
SUMMARY:5:16 - Lake Hills Men's Night
DESCRIPTION:Matthew 5:16 “In the same way\, let your light shine before others\, that they may see your good deeds and glorify your Father in heaven.”\nMen\, this is your moment to step up.\nStep away from the noise and step into a night built around faith\, family\, friendships\, fitness and finances. \nEnjoy a great meal\, powerful worship and a challenging word. Walk away with practical next steps to become the man you’re called to be. This is an opportunity for you to reset\, refocus and take a step forward in the areas that matter most. \nLake Hills Men wants to build men who are ready to grow\, lead and live with purpose together.\nFeaturing special guest Ryan Zook\, President of Men of Iron. \n\n\n\nDetails: \n\nSaturday\, May 16th\n5:00-8:00 p.m.\n$20 a person.\nLake Hills Church Family Life Center\n\nRegister below by May 13th to reserve your spot! This is a night you do NOT want to miss.\nREGISTER NOW
URL:https://lakehillslife.com/event/mens-night/
CATEGORIES:Adults,Churchwide,Homepage,Men
ATTACH;FMTTYPE=image/x-png:https://lakehillslife.com/wp-content/uploads/2026/04/Mens-Night-.png
END:VEVENT
BEGIN:VEVENT
DTSTART;TZID=UTC:20260517T110000
DTEND;TZID=UTC:20260517T120000
DTSTAMP:20260419T122739
CREATED:20260415T185738Z
LAST-MODIFIED:20260415T203731Z
UID:4049-1779015600-1779019200@lakehillslife.com
SUMMARY:Senior Sunday
DESCRIPTION:We are looking forward to honoring our graduating seniors during the 11:00 a.m. service on Sunday\, May 17th. \nThis recognition is open to any high school or college seniors.\n \nYou must complete this registration by May 13th to participate. \nWe would like to have a photo to be used during the recognition. Please send a senior photo to KCalhoun@lakehillslife.com. \nIf you have any questions reach out to Anna Lee (College) at ALee@lakehillslife.com or Daniel Hodum (High School) at DHodum@lakehillslife.com. \n  \nhttps://lakehillslife.churchcenter.com/registrations/events/3591575Register Now
URL:https://lakehillslife.com/event/senior-sunday/
CATEGORIES:College,Homepage,Students
ATTACH;FMTTYPE=image/x-png:https://lakehillslife.com/wp-content/uploads/2026/04/2024-Senior-Sunday-3.png
END:VEVENT
END:VCALENDAR