BEGIN:VCALENDAR
VERSION:2.0
PRODID:-//Lake Hills Church - ECPv6.15.15//NONSGML v1.0//EN
CALSCALE:GREGORIAN
METHOD:PUBLISH
X-WR-CALNAME:Lake Hills Church
X-ORIGINAL-URL:https://lakehillslife.com
X-WR-CALDESC:Events for Lake Hills Church
REFRESH-INTERVAL;VALUE=DURATION:PT1H
X-Robots-Tag:noindex
X-PUBLISHED-TTL:PT1H
BEGIN:VTIMEZONE
TZID:UTC
BEGIN:STANDARD
TZOFFSETFROM:+0000
TZOFFSETTO:+0000
TZNAME:UTC
DTSTART:20250101T000000
END:STANDARD
END:VTIMEZONE
BEGIN:VEVENT
DTSTART;VALUE=DATE:20260615
DTEND;VALUE=DATE:20260619
DTSTAMP:20260419T134916
CREATED:20250313T155415Z
LAST-MODIFIED:20260114T193359Z
UID:3782-1781481600-1781827199@lakehillslife.com
SUMMARY:Vacation Bible School 2026
DESCRIPTION:Vacation Bible School 2026 is June 15-18!!  \nJoin us for ILLUMINATION STATION and shine a light on who Jesus is! \nKids will explore all the ways light brightens\, illuminates\, reflects\, and reveals while discovering that Jesus is the light who brings hope to a dark world! Like the disciples\, kids will be challenged to answer Jesus’ question\, “Who do you say that I am?” They will discover it’s not a matter of opinion. Jesus is who Scripture says He is—the perfect\, proven\, and powerful Son of God. \nEach day will be filled with worship\, recreation\, snacks\, Bible time\, crafts\, and more! We cannot wait for your child to be a part of this week. \nInterested in serving? We NEED YOUR help! VBS takes countless volunteers to make this the wonderful week our kids deserve\, and we can’t do it without their help! Don’t miss out on the special opportunity you have to play a role in teaching our children about Jesus and the difference that relationship with Him can make in their lives! We have a role for everyone and all kinds of areas to serve. \nPlease pre-register by June 11th to secure a spot for your family. \nFor more information email Heidi Wiggins at hwiggins@lakehillslife.com. \n  \nRegister Now
URL:https://lakehillslife.com/event/vacation-bible-school-2025/
CATEGORIES:Children,Churchwide,Homepage
ATTACH;FMTTYPE=image/x-png:https://lakehillslife.com/wp-content/uploads/2025/03/VBS-2026.png
END:VEVENT
BEGIN:VEVENT
DTSTART;VALUE=DATE:20260622
DTEND;VALUE=DATE:20260627
DTSTAMP:20260419T134916
CREATED:20250312T191728Z
LAST-MODIFIED:20260204T185902Z
UID:3780-1782086400-1782518399@lakehillslife.com
SUMMARY:Lake Hills Students Journey Camp @ Toccoa Falls
DESCRIPTION:Get HYPEEE for Student Camp 2026!! \nWe are headed back to Journey Camp. Journey Camp at Toccoa Falls is a week that our students will not forget. A week of fun\, spiritual growth\, fellowship\, and so much more. Our desire in going to camp is for our students to grow deep with their peers and in their relationship with Jesus while also have a fantastic time! \nWhen? June 22-26\, 2026\nWho? Any student who has completed 7th-12th grades\nWhere? Toccoa Falls\, GA\nHow much? $375 per student \nA $100 deposit is due at time of registration to secure your spot.\nRegistration Deadline is June 12th.\nFinal payment is due by June 12th.\n \nSpots are limited so don’t wait! \nFor further questions\, please reach out to Daniel at dhodum@lakehills.com. \n  \nRegister Now
URL:https://lakehillslife.com/event/lake-hills-students-journey-camp-toccoa-falls/
CATEGORIES:Churchwide,Homepage,Students
ATTACH;FMTTYPE=image/x-png:https://lakehillslife.com/wp-content/uploads/2025/03/JOURNEY-CAMP-2.png
END:VEVENT
END:VCALENDAR