BEGIN:VCALENDAR
VERSION:2.0
PRODID:-//Lake Hills Church - ECPv6.15.15//NONSGML v1.0//EN
CALSCALE:GREGORIAN
METHOD:PUBLISH
X-WR-CALNAME:Lake Hills Church
X-ORIGINAL-URL:https://lakehillslife.com
X-WR-CALDESC:Events for Lake Hills Church
REFRESH-INTERVAL;VALUE=DURATION:PT1H
X-Robots-Tag:noindex
X-PUBLISHED-TTL:PT1H
BEGIN:VTIMEZONE
TZID:UTC
BEGIN:STANDARD
TZOFFSETFROM:+0000
TZOFFSETTO:+0000
TZNAME:UTC
DTSTART:20250101T000000
END:STANDARD
END:VTIMEZONE
BEGIN:VEVENT
DTSTART;VALUE=DATE:20261002
DTEND;VALUE=DATE:20261006
DTSTAMP:20260420T012914
CREATED:20250827T180555Z
LAST-MODIFIED:20260225T143706Z
UID:3916-1790899200-1791244799@lakehillslife.com
SUMMARY:West Virginia Mission Trip
DESCRIPTION:This fall we are joining alongside our mission partner\, Redemption Church for a short-term family mission trip to Beckley\, West Virginia. This trip is geared towards families but open to all. The hope is that children and parents will be able to serve side by side and learn what it means to fulfill The Great Commission together! \nNoah and Cheyanne Toney are two of Lake Hills’ mission partners. They have planted a church in Beckley West Virginia. During this trip we will participate in community outreach to share the Gospel and help bring awareness to the church. \nDETAILS – \nTrip Dates: October 2-5\, 2025\nCost: $150 per person\nAge Requirements: All children must be accompanied by at least one parent. If only one parent is coming\, the child must be at least 3rd grade. If both parents are present\, no age restrictions. \nFinal deadline to register is June15th. There are limited spots and we expect this trip to fill up so don’t wait to register. A $50 deposit per person is required to reserve your spot. \nIf you have any further questions\, please reach out to iwalker@lakehillslife.com. \nRegister Now
URL:https://lakehillslife.com/event/west-virginia-mission-trip/
CATEGORIES:Children,Churchwide,Homepage,Missions
ATTACH;FMTTYPE=image/x-png:https://lakehillslife.com/wp-content/uploads/2025/08/2026-Mission-Trips-.png
END:VEVENT
END:VCALENDAR