BEGIN:VCALENDAR
VERSION:2.0
PRODID:-//Lake Hills Church - ECPv6.15.15//NONSGML v1.0//EN
CALSCALE:GREGORIAN
METHOD:PUBLISH
X-ORIGINAL-URL:https://lakehillslife.com
X-WR-CALDESC:Events for Lake Hills Church
REFRESH-INTERVAL;VALUE=DURATION:PT1H
X-Robots-Tag:noindex
X-PUBLISHED-TTL:PT1H
BEGIN:VTIMEZONE
TZID:UTC
BEGIN:STANDARD
TZOFFSETFROM:+0000
TZOFFSETTO:+0000
TZNAME:UTC
DTSTART:20250101T000000
END:STANDARD
END:VTIMEZONE
BEGIN:VEVENT
DTSTART;TZID=UTC:20260104T110000
DTEND;TZID=UTC:20260104T110000
DTSTAMP:20260424T123306
CREATED:20251119T210721Z
LAST-MODIFIED:20251120T145527Z
UID:3954-1767524400-1767524400@lakehillslife.com
SUMMARY:One Service at 11:00 a.m.
DESCRIPTION:On Sunday\, January 4th we will only have ONE SERVICE. Join us for a sweet time of worship at 11:00 a.m. \nThere will be no LifeGroups that morning. Children over 3 are invited to join their families for service.
URL:https://lakehillslife.com/event/one-service-on-christmas-eve-2/
CATEGORIES:Children,Churchwide,Homepage
ATTACH;FMTTYPE=image/x-png:https://lakehillslife.com/wp-content/uploads/2023/11/2-1.png
END:VEVENT
END:VCALENDAR